BEGIN:VCALENDAR
VERSION:2.0
PRODID:-//wp-events-plugin.com//7.2.3.1//EN
TZID:Europe/Berlin
X-WR-TIMEZONE:Europe/Berlin
BEGIN:VEVENT
UID:88@sg-weinstadt.de
DTSTART;TZID=Europe/Berlin:20260321T183000
DTEND;TZID=Europe/Berlin:20260321T234500
DTSTAMP:20260311T121317Z
URL:https://www.sg-weinstadt.de/events/sponsorentag-2026/
SUMMARY:Sponsorentag 2026
DESCRIPTION:Sehr geehrte Sponsoren und Förderer des Handballsports in Wein
 stadt\,\nder Förderverein der SG Weinstadt Handball lädt Sie auch in die
 sem Jahr wieder recht herzlich zum Sponsorenempfang am Samstag\, 21.03.202
 6 in die Beutelsbacher Halle zu folgenden Spielpaarungen ein:\n\n 	 Fraue
 n 1 Oberliga: 18:00 Uhr SG Weinstadt - HB Kinzigtal\n 	Männer 1 Regionall
 iga: 20:00 Uhr SG Weinstadt - HC Neuenbürg 2000\n\nUm 18:30 Uhr findet wi
 e gewohnt ein kleiner Stehempfang mit Buffet in der Sponsorenlounge (Gymna
 stikraum SG Weinstadt\, neben der Sporthalle) statt. Folgen Sie hierzu bit
 te der Ausschilderung zum Sponsorenbereich. Wir nutzen diese Veranstaltung
 \, um uns bei Ihnen für Ihre tatkräftige Unterstützung zur Förderung d
 es Handballsports in Weinstadt zu bedanken.\n\nAußer entspannten und info
 rmativen Gesprächen werden wir hoffentlich interessante Spiele verfolgen 
 und sowohl unsere Frauen 1\, die sehr erfolgreich in der Oberliga spielen 
 und eventuell den Aufstieg im Blick haben\, als auch unsere Männer 1 in d
 er Regionalliga unterstützen können. Ihre Plätze in der Sporthalle sind
  reserviert. Während der Pausen und nach dem Spiel begrüßen wir Sie ger
 ne nochmals im Sponsorenbereich. Auf Ihre positive Rückantwort bis späte
 stens 13. März 2026 freuen wir uns sehr.\n\n&nbsp\;\n\nRückfragen oder t
 elefonische Anmeldung bitte unter der Nummer 07151 64172.\nWir freuen uns 
 auf einen gemütlichen Abend.\nMit sportlichen Grüßen\nFörderverein SG 
 Weinstadt Handball e.V.\nDer Vorstand\n\n\n\n\nBuchungsende 13.03.2026 / 2
 3.45Uhr ---- Bei Buchungsproblemen oder Absage\, bitte an kontakt@sg-weins
 tadt.de wenden.\n\n&nbsp\;
ATTACH;FMTTYPE=image/jpeg:https://www.sg-weinstadt.de/wp-content/uploads/2
 026/02/sponsorentag-26-banner.png
CATEGORIES:Veranstaltung
LOCATION:Gymnastiksaal Halle BB\, Im Obenhinaus 5\, Weinstadt\, 71384\, Deu
 tschland
X-APPLE-STRUCTURED-LOCATION;VALUE=URI;X-ADDRESS=Im Obenhinaus 5\, Weinstadt
 \, 71384\, Deutschland;X-APPLE-RADIUS=100;X-TITLE=Gymnastiksaal Halle BB:g
 eo:0,0
END:VEVENT
BEGIN:VTIMEZONE
TZID:Europe/Berlin
X-LIC-LOCATION:Europe/Berlin
BEGIN:STANDARD
DTSTART:20251026T020000
TZOFFSETFROM:+0200
TZOFFSETTO:+0100
TZNAME:CET
END:STANDARD
END:VTIMEZONE
END:VCALENDAR